BEGIN:VCALENDAR
PRODID:-//kirchenweb.ch gmbh//veranstaltungsausgabe v2.0//DE
VERSION:2.0
METHOD:PUBLISH
BEGIN:VEVENT
DTSTART:20260527T163000Z
DTEND:20260527T193000Z
LOCATION:Pfarrhaus Münster\, Münsterplatz 32\, 8200 Schaf
TRANSP:OPAQUE
SEQUENCE:0
UID:193550-veranstaltung@ref-sh.ch
DTSTAMP:20260414T081657Z
DESCRIPTION:18:30 Uhr Begrüssung und kurzer statutarischer Teil\n19:00
  Uhr Referat Pfr. Markus Fässler: „Kirche mit Kindern“\n20:00 Uhr
  Apero und Ausklang \n\nAn unserer Jahresversammlung des
  Sunntigschuelvereins Schaffhausen dürfen wir neben den statutarischen
  Geschäften auch einen besonderen Gast ankündigen und willkommen
  heissen: Markus Fässler\, Pfarrer i.R.\, langjährig engagiert im
  Bereich Kinder- und Familienarbeit und aktives Vorstandsmitglied des
  Verbandes Kind und Kirche. \n\nMarkus Fässler hat sich weit über seine
  aktive Pfarrzeit hinaus einen Namen gemacht als eine engagierte Stimme
  dafür\, wie kirchliche Angebote für Kinder heute gestaltet werden
  können. In seiner bisherigen Arbeit hat er neue Wege beschritten\,
  kindgerechte Zugänge zu biblischen Inhalten zu entfalten – unter
  anderem durch die Weiterentwicklung des bekannten «Kiki»-Magazins\, das
  Kindern zwischen 6 und 9 Jahren biblische Geschichten\, Rätsel\, Spiele
  und kreative Inhalte vermittelt\, selbst wenn sie nicht an klassischen
  kirchlichen Anlässen teilnehmen.  \n\nMit dem Kind und Kirche-Programm
  setzt Markus Fässler auf Lebendigkeit\, Niederschwelligkeit und
  pädagogische Vielfalt: Inhalte werden so aufbereitet\, dass sie von
  Kindern leicht verstanden und im kirchlichen Unterricht oder in
  Sonntagsschulen einfach eingesetzt werden können. Zudem hat er
  massgeblich daran mitgewirkt\, Hilfsmittel wie
  Handpuppen-Spielanleitungen und Online-Materialien zur Verfügung zu
  stellen\, die Mitarbeitende in Gemeinden ermutigen\, thematisch ernsthaft
  und zugleich spielerisch mit Kindern in den Dialog zu treten. \n\nWir
  freuen uns sehr\, dass Markus Fässler an unserer Versammlung sein
  Programm und seine Vision für die Kinder- und Familienarbeit vorstellen
  wird – in einer Zeit\, in der es für uns alle wichtig ist\, gemeinsam
  Antworten auf die Frage zu finden\, wie Kirche für die jüngsten
  Generationen relevant\, einladend und inspirierend bleibt.\n\nHerzliche
  Einladung an alle\, die in der kirchlichen Kinder- und Sonntagschularbeit
  Verantwortung tragen\, an dieser Vorstellung teilzunehmen und sich mit
  Markus Fässler auszutauschen.\nRessortverantwortliche\, Katechetinnen
  und Sonntagschullehrerinnen und Pfarrerinnen und Pfarrer \n\nKontakt:
  Pfarrer Roland Diethelm\n\nWeitere Infos:
  https://www.ref-sh.ch/veranstaltung/193550
SUMMARY:Jahresversammlung Sunntigschuelverband Schaffhausen
PRIORITY:5
X-MICROSOFT-CDO-IMPORTANCE:1
CLASS:PUBLIC
END:VEVENT
END:VCALENDAR
